BEGIN:VCALENDAR
PRODID:-//eluceo/ical//2.0/EN
VERSION:2.0
CALSCALE:GREGORIAN
BEGIN:VEVENT
UID:6c9ef514a2e9311a922681249dc4b9cf
DTSTAMP:20260422T084121Z
SUMMARY:TS Sunday School
DESCRIPTION:Jewish Federation of Greater Naples\nCommunity Calendar\nhttps:
 //jewishnaples.org/calendar/calendar492\n\n&nbsp
DTSTART;TZID=America/New_York:20141019T093000
DTEND;TZID=America/New_York:20141019T093000
END:VEVENT
END:VCALENDAR
