BEGIN:VCALENDAR
PRODID:-//eluceo/ical//2.0/EN
VERSION:2.0
CALSCALE:GREGORIAN
BEGIN:VEVENT
UID:09d1c2f550f4137bbfcf40a6294ff2a1
DTSTAMP:20260421T200301Z
SUMMARY:TS Sunday School
DESCRIPTION:Jewish Federation of Greater Naples\nCommunity Calendar\nhttps:
 //jewishnaples.org/calendar/calendar488\n\n&nbsp
DTSTART;TZID=America/New_York:20140914T093000
DTEND;TZID=America/New_York:20140914T093000
END:VEVENT
END:VCALENDAR
