BEGIN:VCALENDAR
PRODID:-//eluceo/ical//2.0/EN
VERSION:2.0
CALSCALE:GREGORIAN
BEGIN:VEVENT
UID:a987058c34de6cde143b9c3624cc81e3
DTSTAMP:20260423T134748Z
SUMMARY:TS Exec Comm Mtg
DESCRIPTION:Jewish Federation of Greater Naples\nCommunity Calendar\nhttps:
 //jewishnaples.org/calendar/calendar484\n\n&nbsp
DTSTART;TZID=America/New_York:20150120T190000
DTEND;TZID=America/New_York:20150120T190000
END:VEVENT
END:VCALENDAR
