BEGIN:VCALENDAR
PRODID:-//eluceo/ical//2.0/EN
VERSION:2.0
CALSCALE:GREGORIAN
BEGIN:VEVENT
UID:5aba5b100cf611c7ad0eaa7b630fa732
DTSTAMP:20260422T215152Z
SUMMARY:TS Exec Comm Mtg
DESCRIPTION:Jewish Federation of Greater Naples\nCommunity Calendar\nhttps:
 //jewishnaples.org/calendar/calendar483\n\n&nbsp
DTSTART;TZID=America/New_York:20141021T190000
DTEND;TZID=America/New_York:20141021T190000
END:VEVENT
END:VCALENDAR
