BEGIN:VCALENDAR
PRODID:-//eluceo/ical//2.0/EN
VERSION:2.0
CALSCALE:GREGORIAN
BEGIN:VEVENT
UID:5ba9f88b01f361ad42a245a2ba081098
DTSTAMP:20260424T020101Z
SUMMARY:TS Sisterhood Board Mtg
DESCRIPTION:Jewish Federation of Greater Naples\nCommunity Calendar\nhttps:
 //jewishnaples.org/calendar/calendar481\n\n&nbsp
DTSTART;TZID=America/New_York:20150407T100000
DTEND;TZID=America/New_York:20150407T100000
END:VEVENT
END:VCALENDAR
