BEGIN:VCALENDAR
PRODID:-//eluceo/ical//2.0/EN
VERSION:2.0
CALSCALE:GREGORIAN
BEGIN:VEVENT
UID:cf9a34db829d9f0d1fb783194b399c96
DTSTAMP:20260421T230155Z
SUMMARY:TS Sisterhood Board Mtg
DESCRIPTION:Jewish Federation of Greater Naples\nCommunity Calendar\nhttps:
 //jewishnaples.org/calendar/calendar480\n\n&nbsp
DTSTART;TZID=America/New_York:20150303T100000
DTEND;TZID=America/New_York:20150303T100000
END:VEVENT
END:VCALENDAR
