BEGIN:VCALENDAR
PRODID:-//eluceo/ical//2.0/EN
VERSION:2.0
CALSCALE:GREGORIAN
BEGIN:VEVENT
UID:1ee3e0df3ace1816e9f6ed7aba7fabca
DTSTAMP:20260422T144318Z
SUMMARY:TS Sisterhood Board Mtg
DESCRIPTION:Jewish Federation of Greater Naples\nCommunity Calendar\nhttps:
 //jewishnaples.org/calendar/calendar478\n\n&nbsp
DTSTART;TZID=America/New_York:20150106T100000
DTEND;TZID=America/New_York:20150106T100000
END:VEVENT
END:VCALENDAR
