BEGIN:VCALENDAR
PRODID:-//eluceo/ical//2.0/EN
VERSION:2.0
CALSCALE:GREGORIAN
BEGIN:VEVENT
UID:24a5d4a4c22ebe672183c98031a917eb
DTSTAMP:20260423T025214Z
SUMMARY:TS Sisterhood Board Mtg
DESCRIPTION:Jewish Federation of Greater Naples\nCommunity Calendar\nhttps:
 //jewishnaples.org/calendar/calendar477\n\n&nbsp
DTSTART;TZID=America/New_York:20141202T100000
DTEND;TZID=America/New_York:20141202T100000
END:VEVENT
END:VCALENDAR
