BEGIN:VCALENDAR
PRODID:-//eluceo/ical//2.0/EN
VERSION:2.0
CALSCALE:GREGORIAN
BEGIN:VEVENT
UID:228af373d5a4f28a319b52a31d128d50
DTSTAMP:20260424T092921Z
SUMMARY:TS Sisterhood Luncheon
DESCRIPTION:Jewish Federation of Greater Naples\nCommunity Calendar\nhttps:
 //jewishnaples.org/calendar/calendar469\n\n&nbsp
DTSTART;TZID=America/New_York:20141111T113000
DTEND;TZID=America/New_York:20141111T113000
END:VEVENT
END:VCALENDAR
