BEGIN:VCALENDAR
PRODID:-//eluceo/ical//2.0/EN
VERSION:2.0
CALSCALE:GREGORIAN
BEGIN:VEVENT
UID:27ad6294656ca6b3fd2218e265036e9f
DTSTAMP:20260422T062014Z
SUMMARY:TS Sisterhood Luncheon
DESCRIPTION:Jewish Federation of Greater Naples\nCommunity Calendar\nhttps:
 //jewishnaples.org/calendar/calendar468\n\n&nbsp
DTSTART;TZID=America/New_York:20141014T113000
DTEND;TZID=America/New_York:20141014T113000
END:VEVENT
END:VCALENDAR
