BEGIN:VCALENDAR
PRODID:-//eluceo/ical//2.0/EN
VERSION:2.0
CALSCALE:GREGORIAN
BEGIN:VEVENT
UID:d424364fd678921e79db673a8ea6d6a2
DTSTAMP:20260422T003605Z
SUMMARY:Tu Bishvat
DESCRIPTION:Jewish Federation of Greater Naples\nCommunity Calendar\nhttps:
 //jewishnaples.org/calendar/calendar460\n\n&nbsp
DTSTART;TZID=America/New_York:20150204T000000
DTEND;TZID=America/New_York:20150205T000000
END:VEVENT
END:VCALENDAR
