BEGIN:VCALENDAR
PRODID:-//eluceo/ical//2.0/EN
VERSION:2.0
CALSCALE:GREGORIAN
BEGIN:VEVENT
UID:99a474b28e14966623cc6ae9374a39e1
DTSTAMP:20260423T055906Z
SUMMARY:PASSOVER
DESCRIPTION:Jewish Federation of Greater Naples\nCommunity Calendar\nhttps:
 //jewishnaples.org/calendar/calendar458\n\n&nbsp
DTSTART;TZID=America/New_York:20150404T000000
DTEND;TZID=America/New_York:20150406T000000
END:VEVENT
END:VCALENDAR
