BEGIN:VCALENDAR
PRODID:-//eluceo/ical//2.0/EN
VERSION:2.0
CALSCALE:GREGORIAN
BEGIN:VEVENT
UID:29a11ca8b6b8d88a6250f15cdbf42695
DTSTAMP:20260423T113254Z
SUMMARY:CHA First Day of School
DESCRIPTION:Jewish Federation of Greater Naples\nCommunity Calendar\nhttps:
 //jewishnaples.org/calendar/calendar455\n\n&nbsp
DTSTART;TZID=America/New_York:20140819T080000
DTEND;TZID=America/New_York:20140819T080000
END:VEVENT
END:VCALENDAR
