BEGIN:VCALENDAR
PRODID:-//eluceo/ical//2.0/EN
VERSION:2.0
CALSCALE:GREGORIAN
BEGIN:VEVENT
UID:8ffeef187792728ce019d510999296e2
DTSTAMP:20260423T151516Z
SUMMARY:CHA Service & Luncheon
DESCRIPTION:Jewish Federation of Greater Naples\nCommunity Calendar\nhttps:
 //jewishnaples.org/calendar/calendar451\n\nRosh Hashanah
DTSTART;TZID=America/New_York:20140925T100000
DTEND;TZID=America/New_York:20140925T100000
END:VEVENT
END:VCALENDAR
