BEGIN:VCALENDAR
PRODID:-//eluceo/ical//2.0/EN
VERSION:2.0
CALSCALE:GREGORIAN
BEGIN:VEVENT
UID:37d37304ec3b0db9dd002cd6f4ced4c1
DTSTAMP:20260424T061706Z
SUMMARY:CHA Children's Service
DESCRIPTION:Jewish Federation of Greater Naples\nCommunity Calendar\nhttps:
 //jewishnaples.org/calendar/calendar450\n\nRosh Hashanah
DTSTART;TZID=America/New_York:20140925T110000
DTEND;TZID=America/New_York:20140925T110000
END:VEVENT
END:VCALENDAR
