BEGIN:VCALENDAR
PRODID:-//eluceo/ical//2.0/EN
VERSION:2.0
CALSCALE:GREGORIAN
BEGIN:VEVENT
UID:b5c373f60b5c484fab43204166c6b834
DTSTAMP:20260420T162108Z
SUMMARY:NJC Brunch
DESCRIPTION:Jewish Federation of Greater Naples\nCommunity Calendar\nhttps:
 //jewishnaples.org/calendar/calendar45\n\n15th Anniversary of NJC Brunch\n
 Location TBA
DTSTART;TZID=America/New_York:20141102T113000
DTEND;TZID=America/New_York:20141102T113000
END:VEVENT
END:VCALENDAR
