BEGIN:VCALENDAR
PRODID:-//eluceo/ical//2.0/EN
VERSION:2.0
CALSCALE:GREGORIAN
BEGIN:VEVENT
UID:8c1475f27e92c1f89646c06c97c8ee73
DTSTAMP:20260422T174449Z
SUMMARY:CHA School Performance
DESCRIPTION:Jewish Federation of Greater Naples\nCommunity Calendar\nhttps:
 //jewishnaples.org/calendar/calendar436\n\nPreschool Thanksgiving Lunch & 
 Performance
DTSTART;TZID=America/New_York:20141121T110000
DTEND;TZID=America/New_York:20141121T110000
END:VEVENT
END:VCALENDAR
