BEGIN:VCALENDAR
PRODID:-//eluceo/ical//2.0/EN
VERSION:2.0
CALSCALE:GREGORIAN
BEGIN:VEVENT
UID:745dbf32f1d0f58c3aa188c6bea18051
DTSTAMP:20260423T135230Z
SUMMARY:CHA Toy Drive
DESCRIPTION:Jewish Federation of Greater Naples\nCommunity Calendar\nhttps:
 //jewishnaples.org/calendar/calendar432\n\n&nbsp
DTSTART;TZID=America/New_York:20141218T080000
DTEND;TZID=America/New_York:20141218T080000
END:VEVENT
END:VCALENDAR
