BEGIN:VCALENDAR
PRODID:-//eluceo/ical//2.0/EN
VERSION:2.0
CALSCALE:GREGORIAN
BEGIN:VEVENT
UID:8793ca6b4d472fa6faae02a2ddc93ace
DTSTAMP:20260423T144839Z
SUMMARY:CHA Toy Drive
DESCRIPTION:Jewish Federation of Greater Naples\nCommunity Calendar\nhttps:
 //jewishnaples.org/calendar/calendar430\n\n&nbsp
DTSTART;TZID=America/New_York:20141216T080000
DTEND;TZID=America/New_York:20141216T080000
END:VEVENT
END:VCALENDAR
