BEGIN:VCALENDAR
PRODID:-//eluceo/ical//2.0/EN
VERSION:2.0
CALSCALE:GREGORIAN
BEGIN:VEVENT
UID:ef9c62b9bcf12f0c2be677f83a917403
DTSTAMP:20260420T184348Z
SUMMARY:NJC Chanukah Party
DESCRIPTION:Jewish Federation of Greater Naples\nCommunity Calendar\nhttps:
 //jewishnaples.org/calendar/calendar43\n\nTBA
DTSTART;TZID=America/New_York:20141216T173000
DTEND;TZID=America/New_York:20141216T173000
END:VEVENT
END:VCALENDAR
