BEGIN:VCALENDAR
PRODID:-//eluceo/ical//2.0/EN
VERSION:2.0
CALSCALE:GREGORIAN
BEGIN:VEVENT
UID:8cb761d5027b00b4ad5114ec100efebc
DTSTAMP:20260423T043927Z
SUMMARY:CHA Benefit Evening
DESCRIPTION:Jewish Federation of Greater Naples\nCommunity Calendar\nhttps:
 //jewishnaples.org/calendar/calendar423\n\n&nbsp
DTSTART;TZID=America/New_York:20150315T173000
DTEND;TZID=America/New_York:20150315T173000
END:VEVENT
END:VCALENDAR
