BEGIN:VCALENDAR
PRODID:-//eluceo/ical//2.0/EN
VERSION:2.0
CALSCALE:GREGORIAN
BEGIN:VEVENT
UID:58899e8ae6bead78778559c738d4c499
DTSTAMP:20260424T010751Z
SUMMARY:CHA Purim in Italy
DESCRIPTION:Jewish Federation of Greater Naples\nCommunity Calendar\nhttps:
 //jewishnaples.org/calendar/calendar422\n\n&nbsp
DTSTART;TZID=America/New_York:20150305T173000
DTEND;TZID=America/New_York:20150305T173000
END:VEVENT
END:VCALENDAR
