BEGIN:VCALENDAR
PRODID:-//eluceo/ical//2.0/EN
VERSION:2.0
CALSCALE:GREGORIAN
BEGIN:VEVENT
UID:af6ff0e089d62c2358535a4a580724d8
DTSTAMP:20260423T053751Z
SUMMARY:NCJW Lunch Mtg
DESCRIPTION:Jewish Federation of Greater Naples\nCommunity Calendar\nhttps:
 //jewishnaples.org/calendar/calendar418\n\n&nbsp
DTSTART;TZID=America/New_York:20141021T113000
DTEND;TZID=America/New_York:20141021T113000
END:VEVENT
END:VCALENDAR
