BEGIN:VCALENDAR
PRODID:-//eluceo/ical//2.0/EN
VERSION:2.0
CALSCALE:GREGORIAN
BEGIN:VEVENT
UID:cbf7810a741186ddb84684ae85c08b25
DTSTAMP:20260422T193036Z
SUMMARY:NCJW Board Mtg
DESCRIPTION:Jewish Federation of Greater Naples\nCommunity Calendar\nhttps:
 //jewishnaples.org/calendar/calendar417\n\n&nbsp
DTSTART;TZID=America/New_York:20141006T100000
DTEND;TZID=America/New_York:20141006T100000
END:VEVENT
END:VCALENDAR
