BEGIN:VCALENDAR
PRODID:-//eluceo/ical//2.0/EN
VERSION:2.0
CALSCALE:GREGORIAN
BEGIN:VEVENT
UID:b28cb9dc30945ef2c1447b29437ee590
DTSTAMP:20260423T073142Z
SUMMARY:NCJW Luncheon Mtg
DESCRIPTION:Jewish Federation of Greater Naples\nCommunity Calendar\nhttps:
 //jewishnaples.org/calendar/calendar415\n\n&nbsp
DTSTART;TZID=America/New_York:20141118T113000
DTEND;TZID=America/New_York:20141118T113000
END:VEVENT
END:VCALENDAR
