BEGIN:VCALENDAR
PRODID:-//eluceo/ical//2.0/EN
VERSION:2.0
CALSCALE:GREGORIAN
BEGIN:VEVENT
UID:2d2141788e0e39c8a4452f8bea0a8ea2
DTSTAMP:20260420T071324Z
SUMMARY:NCJW Chanukah Tea
DESCRIPTION:Jewish Federation of Greater Naples\nCommunity Calendar\nhttps:
 //jewishnaples.org/calendar/calendar413\n\n&nbsp
DTSTART;TZID=America/New_York:20141217T113000
DTEND;TZID=America/New_York:20141217T113000
END:VEVENT
END:VCALENDAR
