BEGIN:VCALENDAR
PRODID:-//eluceo/ical//2.0/EN
VERSION:2.0
CALSCALE:GREGORIAN
BEGIN:VEVENT
UID:a3d168e2639789c4263265b015553795
DTSTAMP:20260424T065831Z
SUMMARY:NCJW B.Palm Fundraiser (TENT)
DESCRIPTION:Jewish Federation of Greater Naples\nCommunity Calendar\nhttps:
 //jewishnaples.org/calendar/calendar408\n\n&nbsp
DTSTART;TZID=America/New_York:20150222T170000
DTEND;TZID=America/New_York:20150222T170000
END:VEVENT
END:VCALENDAR
