BEGIN:VCALENDAR
PRODID:-//eluceo/ical//2.0/EN
VERSION:2.0
CALSCALE:GREGORIAN
BEGIN:VEVENT
UID:6368a4340ea1ed031d49778bac80e380
DTSTAMP:20260423T144340Z
SUMMARY:NCJW B.Palm Fundraiser (TENT)
DESCRIPTION:Jewish Federation of Greater Naples\nCommunity Calendar\nhttps:
 //jewishnaples.org/calendar/calendar407\n\n&nbsp
DTSTART;TZID=America/New_York:20150225T170000
DTEND;TZID=America/New_York:20150225T170000
END:VEVENT
END:VCALENDAR
