BEGIN:VCALENDAR
PRODID:-//eluceo/ical//2.0/EN
VERSION:2.0
CALSCALE:GREGORIAN
BEGIN:VEVENT
UID:b8b0a8568e6da8cedbf4310d59b789a8
DTSTAMP:20260424T041037Z
SUMMARY:NCJW Board Mtg
DESCRIPTION:Jewish Federation of Greater Naples\nCommunity Calendar\nhttps:
 //jewishnaples.org/calendar/calendar406\n\n&nbsp
DTSTART;TZID=America/New_York:20150302T100000
DTEND;TZID=America/New_York:20150302T100000
END:VEVENT
END:VCALENDAR
