BEGIN:VCALENDAR
PRODID:-//eluceo/ical//2.0/EN
VERSION:2.0
CALSCALE:GREGORIAN
BEGIN:VEVENT
UID:685f7e7e7c850d51fbc43307b5e5e972
DTSTAMP:20260420T131301Z
SUMMARY:NCJW Fashion Show
DESCRIPTION:Jewish Federation of Greater Naples\nCommunity Calendar\nhttps:
 //jewishnaples.org/calendar/calendar405\n\nFundraiser
DTSTART;TZID=America/New_York:20150319T113000
DTEND;TZID=America/New_York:20150319T113000
END:VEVENT
END:VCALENDAR
