BEGIN:VCALENDAR
PRODID:-//eluceo/ical//2.0/EN
VERSION:2.0
CALSCALE:GREGORIAN
BEGIN:VEVENT
UID:5f8d275e140d6f7f655ab97b9adc5a95
DTSTAMP:20260423T203057Z
SUMMARY:NCJW Board Mtg
DESCRIPTION:Jewish Federation of Greater Naples\nCommunity Calendar\nhttps:
 //jewishnaples.org/calendar/calendar404\n\n&nbsp
DTSTART;TZID=America/New_York:20150406T100000
DTEND;TZID=America/New_York:20150406T100000
END:VEVENT
END:VCALENDAR
