BEGIN:VCALENDAR
PRODID:-//eluceo/ical//2.0/EN
VERSION:2.0
CALSCALE:GREGORIAN
BEGIN:VEVENT
UID:08f74f7f2dca1f4cc5ab1276fc2b7ecf
DTSTAMP:20260422T000247Z
SUMMARY:TS Services
DESCRIPTION:Jewish Federation of Greater Naples\nCommunity Calendar\nhttps:
 //jewishnaples.org/calendar/calendar401\n\n&nbsp
DTSTART;TZID=America/New_York:20150320T193000
DTEND;TZID=America/New_York:20150320T193000
END:VEVENT
END:VCALENDAR
