BEGIN:VCALENDAR
PRODID:-//eluceo/ical//2.0/EN
VERSION:2.0
CALSCALE:GREGORIAN
BEGIN:VEVENT
UID:3db61623ed5d3c012bc467c7a590451e
DTSTAMP:20260424T001505Z
SUMMARY:TS Services
DESCRIPTION:Jewish Federation of Greater Naples\nCommunity Calendar\nhttps:
 //jewishnaples.org/calendar/calendar398\n\n&nbsp
DTSTART;TZID=America/New_York:20141219T193000
DTEND;TZID=America/New_York:20141219T193000
END:VEVENT
END:VCALENDAR
