BEGIN:VCALENDAR
PRODID:-//eluceo/ical//2.0/EN
VERSION:2.0
CALSCALE:GREGORIAN
BEGIN:VEVENT
UID:4d15914cb319773e4789ed9103198598
DTSTAMP:20260423T111952Z
SUMMARY:TS Services
DESCRIPTION:Jewish Federation of Greater Naples\nCommunity Calendar\nhttps:
 //jewishnaples.org/calendar/calendar396\n\n&nbsp
DTSTART;TZID=America/New_York:20141017T193000
DTEND;TZID=America/New_York:20141017T193000
END:VEVENT
END:VCALENDAR
