BEGIN:VCALENDAR
PRODID:-//eluceo/ical//2.0/EN
VERSION:2.0
CALSCALE:GREGORIAN
BEGIN:VEVENT
UID:54af6afe633f1710db1898e00e3949f3
DTSTAMP:20260420T154159Z
SUMMARY:TS Services
DESCRIPTION:Jewish Federation of Greater Naples\nCommunity Calendar\nhttps:
 //jewishnaples.org/calendar/calendar393\n\n&nbsp
DTSTART;TZID=America/New_York:20140718T193000
DTEND;TZID=America/New_York:20140718T193000
END:VEVENT
END:VCALENDAR
