BEGIN:VCALENDAR
PRODID:-//eluceo/ical//2.0/EN
VERSION:2.0
CALSCALE:GREGORIAN
BEGIN:VEVENT
UID:02517c152e5a9617e4498a7871729d84
DTSTAMP:20260423T062323Z
SUMMARY:TS Services
DESCRIPTION:Jewish Federation of Greater Naples\nCommunity Calendar\nhttps:
 //jewishnaples.org/calendar/calendar390\n\n&nbsp
DTSTART;TZID=America/New_York:20150424T193000
DTEND;TZID=America/New_York:20150424T193000
END:VEVENT
END:VCALENDAR
