BEGIN:VCALENDAR
PRODID:-//eluceo/ical//2.0/EN
VERSION:2.0
CALSCALE:GREGORIAN
BEGIN:VEVENT
UID:e56b3bddc0a8076392779b57e4123048
DTSTAMP:20260423T172217Z
SUMMARY:TS Shabbat Beach
DESCRIPTION:Jewish Federation of Greater Naples\nCommunity Calendar\nhttps:
 //jewishnaples.org/calendar/calendar385\n\nLowdermilk
DTSTART;TZID=America/New_York:20141128T180000
DTEND;TZID=America/New_York:20141128T180000
END:VEVENT
END:VCALENDAR
