BEGIN:VCALENDAR
PRODID:-//eluceo/ical//2.0/EN
VERSION:2.0
CALSCALE:GREGORIAN
BEGIN:VEVENT
UID:4f9b892b9d2577a5d1f541189efd6b26
DTSTAMP:20260424T092608Z
SUMMARY:TS Services
DESCRIPTION:Jewish Federation of Greater Naples\nCommunity Calendar\nhttps:
 //jewishnaples.org/calendar/calendar383\n\n&nbsp
DTSTART;TZID=America/New_York:20140926T193000
DTEND;TZID=America/New_York:20140926T193000
END:VEVENT
END:VCALENDAR
