BEGIN:VCALENDAR
PRODID:-//eluceo/ical//2.0/EN
VERSION:2.0
CALSCALE:GREGORIAN
BEGIN:VEVENT
UID:026a2b5c7127e67a54675aff16eae57d
DTSTAMP:20260424T010801Z
SUMMARY:TS Services
DESCRIPTION:Jewish Federation of Greater Naples\nCommunity Calendar\nhttps:
 //jewishnaples.org/calendar/calendar382\n\n&nbsp
DTSTART;TZID=America/New_York:20140822T193000
DTEND;TZID=America/New_York:20140822T193000
END:VEVENT
END:VCALENDAR
