BEGIN:VCALENDAR
PRODID:-//eluceo/ical//2.0/EN
VERSION:2.0
CALSCALE:GREGORIAN
BEGIN:VEVENT
UID:14b086c77ea45513ec2d96c643c2b952
DTSTAMP:20260422T134253Z
SUMMARY:TS Shir Shabbat
DESCRIPTION:Jewish Federation of Greater Naples\nCommunity Calendar\nhttps:
 //jewishnaples.org/calendar/calendar377\n\n&nbsp
DTSTART;TZID=America/New_York:20150403T183000
DTEND;TZID=America/New_York:20150403T183000
END:VEVENT
END:VCALENDAR
