BEGIN:VCALENDAR
PRODID:-//eluceo/ical//2.0/EN
VERSION:2.0
CALSCALE:GREGORIAN
BEGIN:VEVENT
UID:e434738f4574eb62d2ef30f45fb012f5
DTSTAMP:20260422T165956Z
SUMMARY:TS Shir Shabbat
DESCRIPTION:Jewish Federation of Greater Naples\nCommunity Calendar\nhttps:
 //jewishnaples.org/calendar/calendar374\n\n&nbsp
DTSTART;TZID=America/New_York:20150102T183000
DTEND;TZID=America/New_York:20150102T183000
END:VEVENT
END:VCALENDAR
