BEGIN:VCALENDAR
PRODID:-//eluceo/ical//2.0/EN
VERSION:2.0
CALSCALE:GREGORIAN
BEGIN:VEVENT
UID:9237fe16fe712b0480832b209294d5d5
DTSTAMP:20260423T223627Z
SUMMARY:TS Camp Last Day
DESCRIPTION:Jewish Federation of Greater Naples\nCommunity Calendar\nhttps:
 //jewishnaples.org/calendar/calendar367\n\nCamp Shalom
DTSTART;TZID=America/New_York:20140725T080000
DTEND;TZID=America/New_York:20140725T080000
END:VEVENT
END:VCALENDAR
