BEGIN:VCALENDAR
PRODID:-//eluceo/ical//2.0/EN
VERSION:2.0
CALSCALE:GREGORIAN
BEGIN:VEVENT
UID:1b04008455cab55fbf38750babee6ae5
DTSTAMP:20260421T200112Z
SUMMARY:TS Board Mtg
DESCRIPTION:Jewish Federation of Greater Naples\nCommunity Calendar\nhttps:
 //jewishnaples.org/calendar/calendar365\n\nChanges from 9-23
DTSTART;TZID=America/New_York:20140916T190000
DTEND;TZID=America/New_York:20140916T190000
END:VEVENT
END:VCALENDAR
