BEGIN:VCALENDAR
PRODID:-//eluceo/ical//2.0/EN
VERSION:2.0
CALSCALE:GREGORIAN
BEGIN:VEVENT
UID:90696a1d1988476534d2ceb8ce59339e
DTSTAMP:20260420T143833Z
SUMMARY:TS Service
DESCRIPTION:Jewish Federation of Greater Naples\nCommunity Calendar\nhttps:
 //jewishnaples.org/calendar/calendar364\n\nRosh Hashanah
DTSTART;TZID=America/New_York:20140925T100000
DTEND;TZID=America/New_York:20140925T100000
END:VEVENT
END:VCALENDAR
