BEGIN:VCALENDAR
PRODID:-//eluceo/ical//2.0/EN
VERSION:2.0
CALSCALE:GREGORIAN
BEGIN:VEVENT
UID:1f211e1a13823465ca670d0af6b88924
DTSTAMP:20260424T011046Z
SUMMARY:TS Service
DESCRIPTION:Jewish Federation of Greater Naples\nCommunity Calendar\nhttps:
 //jewishnaples.org/calendar/calendar361\n\nRosh Hashanah
DTSTART;TZID=America/New_York:20140926T100000
DTEND;TZID=America/New_York:20140926T100000
END:VEVENT
END:VCALENDAR
