BEGIN:VCALENDAR
PRODID:-//eluceo/ical//2.0/EN
VERSION:2.0
CALSCALE:GREGORIAN
BEGIN:VEVENT
UID:35c9aefac6d796445ff2cc27e46a1199
DTSTAMP:20260424T074908Z
SUMMARY:TS Service Yizkor
DESCRIPTION:Jewish Federation of Greater Naples\nCommunity Calendar\nhttps:
 //jewishnaples.org/calendar/calendar356\n\nYizkor
DTSTART;TZID=America/New_York:20141015T100000
DTEND;TZID=America/New_York:20141015T100000
END:VEVENT
END:VCALENDAR
