BEGIN:VCALENDAR
PRODID:-//eluceo/ical//2.0/EN
VERSION:2.0
CALSCALE:GREGORIAN
BEGIN:VEVENT
UID:21f0a3eec9d0f10d727a96516bd83f3b
DTSTAMP:20260423T103113Z
SUMMARY:TS Preschool Closed
DESCRIPTION:Jewish Federation of Greater Naples\nCommunity Calendar\nhttps:
 //jewishnaples.org/calendar/calendar352\n\n&nbsp
DTSTART;TZID=America/New_York:20141024T080000
DTEND;TZID=America/New_York:20141024T080000
END:VEVENT
END:VCALENDAR
