BEGIN:VCALENDAR
PRODID:-//eluceo/ical//2.0/EN
VERSION:2.0
CALSCALE:GREGORIAN
BEGIN:VEVENT
UID:a6fb5cb1e3783e555067bf45e3368355
DTSTAMP:20260423T062530Z
SUMMARY:TS Preschool Closed
DESCRIPTION:Jewish Federation of Greater Naples\nCommunity Calendar\nhttps:
 //jewishnaples.org/calendar/calendar350\n\n&nbsp
DTSTART;TZID=America/New_York:20141022T080000
DTEND;TZID=America/New_York:20141022T080000
END:VEVENT
END:VCALENDAR
