BEGIN:VCALENDAR
PRODID:-//eluceo/ical//2.0/EN
VERSION:2.0
CALSCALE:GREGORIAN
BEGIN:VEVENT
UID:e90bf6226bcdfb122ec275dc80ec6670
DTSTAMP:20260420T143109Z
SUMMARY:TS Exec. Cmt. Mtg
DESCRIPTION:Jewish Federation of Greater Naples\nCommunity Calendar\nhttps:
 //jewishnaples.org/calendar/calendar341\n\n&nbsp
DTSTART;TZID=America/New_York:20141113T190000
DTEND;TZID=America/New_York:20141113T190000
END:VEVENT
END:VCALENDAR
