BEGIN:VCALENDAR
PRODID:-//eluceo/ical//2.0/EN
VERSION:2.0
CALSCALE:GREGORIAN
BEGIN:VEVENT
UID:e39429c3928df82851fc27aa2ccb042a
DTSTAMP:20260424T050216Z
SUMMARY:TS/ZOA Speaker Event
DESCRIPTION:Jewish Federation of Greater Naples\nCommunity Calendar\nhttps:
 //jewishnaples.org/calendar/calendar338\n\nJonathan Tobin\nEditor of Comme
 ntary Magazine
DTSTART;TZID=America/New_York:20141118T193000
DTEND;TZID=America/New_York:20141118T193000
END:VEVENT
END:VCALENDAR
